BEGIN:VCALENDAR
VERSION:2.0
PRODID:-//Sistek - ECPv6.15.18//NONSGML v1.0//EN
CALSCALE:GREGORIAN
METHOD:PUBLISH
X-ORIGINAL-URL:https://sistek.cl
X-WR-CALDESC:Eventos para Sistek
REFRESH-INTERVAL;VALUE=DURATION:PT1H
X-Robots-Tag:noindex
X-PUBLISHED-TTL:PT1H
BEGIN:VTIMEZONE
TZID:America/Sao_Paulo
BEGIN:STANDARD
TZOFFSETFROM:-0300
TZOFFSETTO:-0300
TZNAME:-03
DTSTART:20220101T000000
END:STANDARD
END:VTIMEZONE
BEGIN:VEVENT
DTSTART;TZID=America/Sao_Paulo:20230316T110000
DTEND;TZID=America/Sao_Paulo:20230316T171908
DTSTAMP:20260422T191218
CREATED:20230316T171722Z
LAST-MODIFIED:20230316T171908Z
UID:7764-1678964400-1678987148@sistek.cl
SUMMARY:Nuevas soluciones de voz y video para Microsoft Teams
DESCRIPTION:Nuevas soluciones Yealink de voz y video para Microsoft Teams\n16 de marzo – 11:00 horas
URL:https://sistek.cl/event/nuevas-soluciones-de-voz-y-video-para-microsoft-teams/
END:VEVENT
END:VCALENDAR