BEGIN:VCALENDAR
VERSION:2.0
PRODID:-//Sistek - ECPv6.15.18//NONSGML v1.0//EN
CALSCALE:GREGORIAN
METHOD:PUBLISH
X-WR-CALNAME:Sistek
X-ORIGINAL-URL:https://sistek.cl
X-WR-CALDESC:Eventos para Sistek
REFRESH-INTERVAL;VALUE=DURATION:PT1H
X-Robots-Tag:noindex
X-PUBLISHED-TTL:PT1H
BEGIN:VTIMEZONE
TZID:America/Sao_Paulo
BEGIN:STANDARD
TZOFFSETFROM:-0300
TZOFFSETTO:-0300
TZNAME:-03
DTSTART:20220101T000000
END:STANDARD
END:VTIMEZONE
BEGIN:VEVENT
DTSTART;TZID=America/Sao_Paulo:20230316T110000
DTEND;TZID=America/Sao_Paulo:20230316T171908
DTSTAMP:20260422T173455
CREATED:20230316T171722Z
LAST-MODIFIED:20230316T171908Z
UID:7764-1678964400-1678987148@sistek.cl
SUMMARY:Nuevas soluciones de voz y video para Microsoft Teams
DESCRIPTION:Nuevas soluciones Yealink de voz y video para Microsoft Teams\n16 de marzo – 11:00 horas
URL:https://sistek.cl/event/nuevas-soluciones-de-voz-y-video-para-microsoft-teams/
END:VEVENT
BEGIN:VEVENT
DTSTART;TZID=America/Sao_Paulo:20230321T110000
DTEND;TZID=America/Sao_Paulo:20230321T110000
DTSTAMP:20260422T173455
CREATED:20230316T172024Z
LAST-MODIFIED:20230321T221013Z
UID:7766-1679396400-1679396400@sistek.cl
SUMMARY:¿Cuál es la cobertura WiFi real de los APs UniFi de Ubiquiti?
DESCRIPTION:¿Cuál es la cobertura WiFi real de los APs UniFi de Ubiquiti?21 de marzo – 11:00 horas
URL:https://sistek.cl/event/cual-es-la-cobertura-wifi-real-de-los-aps-unifi-de-ubiquiti/
END:VEVENT
BEGIN:VEVENT
DTSTART;TZID=America/Sao_Paulo:20230330T110000
DTEND;TZID=America/Sao_Paulo:20230330T120000
DTSTAMP:20260422T173455
CREATED:20230316T172107Z
LAST-MODIFIED:20230322T155538Z
UID:7768-1680174000-1680177600@sistek.cl
SUMMARY:Nuevas plataformas de comunicación IP Yeastar basadas en Software y Hardware
DESCRIPTION:Nuevas plataformas de comunicación IP Yeastar basadas en Software y Hardware\n30 de marzo – 11:00 horas
URL:https://sistek.cl/event/nuevas-plataformas-de-comunicacion-ip-yeastar-basadas-en-software-y-hardware/
ATTACH;FMTTYPE=image/webp:https://sistek.cl/wp-content/uploads/2023/02/logo-yeastar_Mesa-de-trabajo-1.webp
END:VEVENT
END:VCALENDAR