BEGIN:VCALENDAR
VERSION:2.0
PRODID:-//Sistek - ECPv6.15.18//NONSGML v1.0//EN
CALSCALE:GREGORIAN
METHOD:PUBLISH
X-ORIGINAL-URL:https://sistek.cl
X-WR-CALDESC:Eventos para Sistek
REFRESH-INTERVAL;VALUE=DURATION:PT1H
X-Robots-Tag:noindex
X-PUBLISHED-TTL:PT1H
BEGIN:VTIMEZONE
TZID:America/Sao_Paulo
BEGIN:STANDARD
TZOFFSETFROM:-0300
TZOFFSETTO:-0300
TZNAME:-03
DTSTART:20220101T000000
END:STANDARD
END:VTIMEZONE
BEGIN:VEVENT
DTSTART;TZID=America/Sao_Paulo:20230406T110000
DTEND;TZID=America/Sao_Paulo:20230406T120000
DTSTAMP:20260422T155811
CREATED:20230316T172215Z
LAST-MODIFIED:20230321T223226Z
UID:7770-1680778800-1680782400@sistek.cl
SUMMARY:Soluciones LTE y 5G con MikroTik
DESCRIPTION:Soluciones LTE y 5G con MikroTik!6 de abril – 11:00 horas
URL:https://sistek.cl/event/soluciones-lte-y-5g-con-mikrotik/
ATTACH;FMTTYPE=image/webp:https://sistek.cl/wp-content/uploads/2023/02/logo-mikrotik_Mesa-de-trabajo-1.webp
END:VEVENT
BEGIN:VEVENT
DTSTART;TZID=America/Sao_Paulo:20230413T110000
DTEND;TZID=America/Sao_Paulo:20230413T170000
DTSTAMP:20260422T155811
CREATED:20230322T123044Z
LAST-MODIFIED:20230322T134506Z
UID:8268-1681383600-1681405200@sistek.cl
SUMMARY:Actualización del portafolio de telefonía y cintillos Yealink \, presentación de plataforma de administración en la nube
DESCRIPTION:Actualización del portafolio de telefonía y cintillos Yealink \, presentación de plataforma de administración en la nube
URL:https://sistek.cl/event/actualizacion-del-portafolio-de-telefonia-y-cintillos-yealink-presentacion-de-plataforma-de-administracion-en-la-nube/
ATTACH;FMTTYPE=image/webp:https://sistek.cl/wp-content/uploads/2023/02/logo-yealink_Mesa-de-trabajo-1.webp
END:VEVENT
BEGIN:VEVENT
DTSTART;TZID=America/Sao_Paulo:20230420T110000
DTEND;TZID=America/Sao_Paulo:20230420T120000
DTSTAMP:20260422T155811
CREATED:20230322T123308Z
LAST-MODIFIED:20230417T125959Z
UID:8270-1681988400-1681992000@sistek.cl
SUMMARY:Filtro de contenido de malware y rasonware para Empresas con Routers Mikrotik – Flashstart
DESCRIPTION:Filtro de contenido de malware y rasonware para Empresas con Routers Mikrotik – Flashstart
URL:https://sistek.cl/event/filtro-de-contenido-de-malware-y-rasonware-para-empresas-con-routers-mikrotik-flashstart/
ATTACH;FMTTYPE=image/webp:https://sistek.cl/wp-content/uploads/2023/02/logo-flashstart_Mesa-de-trabajo-1.webp
END:VEVENT
END:VCALENDAR